{
 "currentVersion": 10.71,
 "serviceDescription": "",
 "mapName": "Layers",
 "description": "",
 "copyrightText": "",
 "supportsDynamicLayers": false,
 "layers": [
  {
   "id": 0,
   "name": "GISRASTER.GISPUB.IMAGE_1985ORTHOBW",
   "parentLayerId": -1,
   "defaultVisibility": true,
   "subLayerIds": null,
   "minScale": 0,
   "maxScale": 0,
   "type": "Raster Layer"
  }
 ],
 "tables": [],
 "spatialReference": {
  "wkid": 103768,
  "latestWkid": 103768
 },
 "singleFusedMapCache": true,
 "tileInfo": {
  "rows": 256,
  "cols": 256,
  "dpi": 96,
  "format": "PNG32",
  "compressionQuality": 0,
  "origin": {
   "x": -119096800,
   "y": 140731500
  },
  "spatialReference": {
   "wkid": 103768,
   "latestWkid": 103768
  },
  "lods": [
   {
    "level": 0,
    "resolution": 151.90972222222223,
    "scale": 175000
   },
   {
    "level": 1,
    "resolution": 108.50694444444446,
    "scale": 125000
   },
   {
    "level": 2,
    "resolution": 55.55555555555556,
    "scale": 64000
   },
   {
    "level": 3,
    "resolution": 27.77777777777778,
    "scale": 32000
   },
   {
    "level": 4,
    "resolution": 13.88888888888889,
    "scale": 16000
   },
   {
    "level": 5,
    "resolution": 6.944444444444445,
    "scale": 8000
   },
   {
    "level": 6,
    "resolution": 3.125,
    "scale": 3600
   },
   {
    "level": 7,
    "resolution": 2.0833333333333335,
    "scale": 2400
   },
   {
    "level": 8,
    "resolution": 1.0416666666666667,
    "scale": 1200
   },
   {
    "level": 9,
    "resolution": 0.5208333333333334,
    "scale": 600
   }
  ]
 },
 "initialExtent": {
  "xmin": 512058.4721487199,
  "ymin": 116193.1084978887,
  "xmax": 631187.2625769286,
  "ymax": 241690.41916911493,
  "spatialReference": {
   "wkid": 103768,
   "latestWkid": 103768
  }
 },
 "fullExtent": {
  "xmin": 539480.120142981,
  "ymin": 130922.4400759997,
  "xmax": 603764.6577470041,
  "ymax": 226961.08759101297,
  "spatialReference": {
   "wkid": 103768,
   "latestWkid": 103768
  }
 },
 "minScale": 0,
 "maxScale": 0,
 "units": "esriFeet",
 "supportedImageFormatTypes": "PNG32,PNG24,PNG,JPG,DIB,TIFF,EMF,PS,PDF,GIF,SVG,SVGZ,BMP",
 "documentInfo": {
  "Title": "",
  "Author": "",
  "Comments": "",
  "Subject": "",
  "Category": "",
  "AntialiasingMode": "None",
  "TextAntialiasingMode": "Force",
  "Keywords": ""
 },
 "capabilities": "Map,Query,Data",
 "supportedQueryFormats": "JSON, geoJSON",
 "exportTilesAllowed": false,
 "datumTransformations": [
  {
   "geoTransforms": [
    {
     "wkid": 108001,
     "latestWkid": 1241,
     "transformForward": true,
     "name": "NAD_1927_To_NAD_1983_NADCON"
    }
   ]
  },
  {
   "geoTransforms": [
    {
     "wkid": 108001,
     "latestWkid": 1241,
     "transformForward": false,
     "name": "NAD_1927_To_NAD_1983_NADCON"
    }
   ]
  }
 ],
 "supportsDatumTransformation": true,
 "maxRecordCount": 1000,
 "maxImageHeight": 4096,
 "maxImageWidth": 4096,
 "supportedExtensions": "KmlServer"
}
