{
 "currentVersion": 10.71,
 "serviceDescription": "OrthoPhotos/Aerial2018",
 "name": "OrthoPhotos/Aerial2018",
 "description": "",
 "extent": {
  "xmin": 539825.75,
  "ymin": 132372.75,
  "xmax": 603717,
  "ymax": 222323.5,
  "spatialReference": {
   "wkid": 103768,
   "latestWkid": 103768
  }
 },
 "initialExtent": {
  "xmin": 539825.75,
  "ymin": 132372.75,
  "xmax": 603717,
  "ymax": 222323.5,
  "spatialReference": {
   "wkid": 103768,
   "latestWkid": 103768
  }
 },
 "fullExtent": {
  "xmin": 539825.75,
  "ymin": 132372.75,
  "xmax": 603717,
  "ymax": 222323.5,
  "spatialReference": {
   "wkid": 103768,
   "latestWkid": 103768
  }
 },
 "pixelSizeX": 0.25,
 "pixelSizeY": 0.25,
 "bandCount": 3,
 "pixelType": "U8",
 "minPixelSize": 0,
 "maxPixelSize": 0,
 "copyrightText": "",
 "serviceDataType": "esriImageServiceDataTypeRGB",
 "minValues": [
  0,
  17,
  0
 ],
 "maxValues": [
  255,
  255,
  255
 ],
 "meanValues": [
  143.20634920634976,
  130.9832251082251,
  108.72564935064923
 ],
 "stdvValues": [
  44.65326561363392,
  46.89841082530641,
  53.63995616764025
 ],
 "objectIdField": "",
 "fields": [],
 "capabilities": "Image,Metadata,Mensuration",
 "defaultMosaicMethod": "Center",
 "allowedMosaicMethods": "",
 "sortField": "",
 "sortValue": null,
 "mosaicOperator": "First",
 "defaultCompressionQuality": 75,
 "defaultResamplingMethod": "Bilinear",
 "maxImageHeight": 4100,
 "maxImageWidth": 15000,
 "allowRasterFunction": true,
 "rasterFunctionInfos": [
  {
   "name": "None",
   "description": "",
   "help": ""
  }
 ],
 "rasterTypeInfos": [
  {
   "name": "Raster Dataset",
   "description": "Supports all ArcGIS Raster Datasets",
   "help": ""
  }
 ],
 "mensurationCapabilities": "Basic",
 "hasHistograms": true,
 "hasColormap": false,
 "hasRasterAttributeTable": false,
 "minScale": 0,
 "maxScale": 0,
 "exportTilesAllowed": false,
 "hasMultidimensions": false,
 "supportsStatistics": false,
 "supportsAdvancedQueries": false,
 "editFieldsInfo": null,
 "ownershipBasedAccessControlForRasters": null,
 "allowComputeTiePoints": false,
 "useStandardizedQueries": true,
 "advancedQueryCapabilities": {
  "useStandardizedQueries": true,
  "supportsStatistics": false,
  "supportsOrderBy": false,
  "supportsDistinct": false,
  "supportsPagination": false
 },
 "spatialReference": {
  "wkid": 103768,
  "latestWkid": 103768
 }
}
