{
 "currentVersion": 10.71,
 "serviceDescription": "Aerial Imagery collected in Spring 2022. Service produced from single MrSID image.",
 "name": "OrthoPhotos/Aerial2022",
 "description": "Aerial Imagery collected in Spring 2022. Service produced from single MrSID image.",
 "extent": {
  "xmin": 538701.5162,
  "ymin": 131851.12,
  "xmax": 608705.0162,
  "ymax": 226855.87,
  "spatialReference": {
   "wkid": 103768,
   "latestWkid": 103768
  }
 },
 "initialExtent": {
  "xmin": 538701.5162,
  "ymin": 131851.12,
  "xmax": 608705.0162,
  "ymax": 226855.87,
  "spatialReference": {
   "wkid": 103768,
   "latestWkid": 103768
  }
 },
 "fullExtent": {
  "xmin": 538701.5162,
  "ymin": 131851.12,
  "xmax": 608705.0162,
  "ymax": 226855.87,
  "spatialReference": {
   "wkid": 103768,
   "latestWkid": 103768
  }
 },
 "pixelSizeX": 0.25,
 "pixelSizeY": 0.25,
 "bandCount": 3,
 "pixelType": "U8",
 "minPixelSize": 0,
 "maxPixelSize": 0,
 "copyrightText": "",
 "serviceDataType": "esriImageServiceDataTypeProcessed",
 "minValues": [
  0,
  0,
  9
 ],
 "maxValues": [
  255,
  255,
  255
 ],
 "meanValues": [
  135.75736325386,
  126.99984416394,
  106.29842605579
 ],
 "stdvValues": [
  43.117525001131,
  41.258394341112,
  44.967447083367
 ],
 "objectIdField": "",
 "fields": [],
 "capabilities": "Image,Metadata,Mensuration",
 "defaultMosaicMethod": "Center",
 "allowedMosaicMethods": "",
 "sortField": "",
 "sortValue": null,
 "mosaicOperator": "First",
 "defaultCompressionQuality": 75,
 "defaultResamplingMethod": "Bilinear",
 "maxImageHeight": 4100,
 "maxImageWidth": 15000,
 "allowRasterFunction": true,
 "rasterFunctionInfos": [
  {
   "name": "None",
   "description": "",
   "help": ""
  }
 ],
 "rasterTypeInfos": [
  {
   "name": "Raster Dataset",
   "description": "Supports all ArcGIS Raster Datasets",
   "help": ""
  }
 ],
 "mensurationCapabilities": "Basic",
 "hasHistograms": true,
 "hasColormap": false,
 "hasRasterAttributeTable": false,
 "minScale": 0,
 "maxScale": 0,
 "exportTilesAllowed": false,
 "hasMultidimensions": false,
 "supportsStatistics": false,
 "supportsAdvancedQueries": false,
 "editFieldsInfo": null,
 "ownershipBasedAccessControlForRasters": null,
 "allowComputeTiePoints": false,
 "useStandardizedQueries": true,
 "advancedQueryCapabilities": {
  "useStandardizedQueries": true,
  "supportsStatistics": false,
  "supportsOrderBy": false,
  "supportsDistinct": false,
  "supportsPagination": false
 },
 "spatialReference": {
  "wkid": 103768,
  "latestWkid": 103768
 }
}
