{
 "currentVersion": 10.71,
 "serviceDescription": "Aerial Imagery collected in Spring 2024. Service produced from single MrSID image.",
 "name": "OrthoPhotos/Aerial2024",
 "description": "Aerial Imagery collected in Spring 2024. Service produced from single MrSID image.",
 "extent": {
  "xmin": 538701.2662,
  "ymin": 131850.87,
  "xmax": 608705.2662,
  "ymax": 226856.12,
  "spatialReference": {
   "wkt": "PROJCS[\"MN_RAMSEY_Lambert_Conformal_Conic\",GEOGCS[\"GCS_MN_RAMSEY\",DATUM[\"D_MN_RAMSEY\",SPHEROID[\"MN_County_Ramsey\",6378418.941,298.2572242549219]],PRIMEM[\"Greenwich\",0.0],UNIT[\"Degree\",0.0174532925199433]],PROJECTION[\"Lambert_Conformal_Conic\"],PARAMETER[\"false_easting\",499999.999998],PARAMETER[\"false_northing\",100000.0001308333],PARAMETER[\"central_meridian\",-93.38333333000126],PARAMETER[\"standard_parallel_1\",44.8833333299992],PARAMETER[\"standard_parallel_2\",45.1333333299992],PARAMETER[\"scale_factor\",1.0],PARAMETER[\"latitude_of_origin\",44.79111110999973],UNIT[\"Foot_US\",0.3048006096012192]]"
  }
 },
 "initialExtent": {
  "xmin": 538701.2662,
  "ymin": 131850.87,
  "xmax": 608705.2662,
  "ymax": 226856.12,
  "spatialReference": {
   "wkt": "PROJCS[\"MN_RAMSEY_Lambert_Conformal_Conic\",GEOGCS[\"GCS_MN_RAMSEY\",DATUM[\"D_MN_RAMSEY\",SPHEROID[\"MN_County_Ramsey\",6378418.941,298.2572242549219]],PRIMEM[\"Greenwich\",0.0],UNIT[\"Degree\",0.0174532925199433]],PROJECTION[\"Lambert_Conformal_Conic\"],PARAMETER[\"false_easting\",499999.999998],PARAMETER[\"false_northing\",100000.0001308333],PARAMETER[\"central_meridian\",-93.38333333000126],PARAMETER[\"standard_parallel_1\",44.8833333299992],PARAMETER[\"standard_parallel_2\",45.1333333299992],PARAMETER[\"scale_factor\",1.0],PARAMETER[\"latitude_of_origin\",44.79111110999973],UNIT[\"Foot_US\",0.3048006096012192]]"
  }
 },
 "fullExtent": {
  "xmin": 538701.2662,
  "ymin": 131850.87,
  "xmax": 608705.2662,
  "ymax": 226856.12,
  "spatialReference": {
   "wkt": "PROJCS[\"MN_RAMSEY_Lambert_Conformal_Conic\",GEOGCS[\"GCS_MN_RAMSEY\",DATUM[\"D_MN_RAMSEY\",SPHEROID[\"MN_County_Ramsey\",6378418.941,298.2572242549219]],PRIMEM[\"Greenwich\",0.0],UNIT[\"Degree\",0.0174532925199433]],PROJECTION[\"Lambert_Conformal_Conic\"],PARAMETER[\"false_easting\",499999.999998],PARAMETER[\"false_northing\",100000.0001308333],PARAMETER[\"central_meridian\",-93.38333333000126],PARAMETER[\"standard_parallel_1\",44.8833333299992],PARAMETER[\"standard_parallel_2\",45.1333333299992],PARAMETER[\"scale_factor\",1.0],PARAMETER[\"latitude_of_origin\",44.79111110999973],UNIT[\"Foot_US\",0.3048006096012192]]"
  }
 },
 "pixelSizeX": 0.25,
 "pixelSizeY": 0.25,
 "bandCount": 3,
 "pixelType": "U8",
 "minPixelSize": 0.5208333333333333,
 "maxPixelSize": 151.9097222222222,
 "copyrightText": "",
 "serviceDataType": "esriImageServiceDataTypeProcessed",
 "minValues": [
  0,
  0,
  0
 ],
 "maxValues": [
  255,
  255,
  255
 ],
 "meanValues": [
  137.81658095683,
  133.5435561789,
  117.23983169705
 ],
 "stdvValues": [
  46.461794190825,
  43.238105304906,
  44.337974601278
 ],
 "objectIdField": "",
 "fields": [],
 "capabilities": "Mensuration,Image,Metadata",
 "defaultMosaicMethod": "Center",
 "allowedMosaicMethods": "",
 "sortField": "",
 "sortValue": null,
 "mosaicOperator": "First",
 "defaultCompressionQuality": 75,
 "defaultResamplingMethod": "Bilinear",
 "maxImageHeight": 4100,
 "maxImageWidth": 15000,
 "singleFusedMapCache": true,
 "tileInfo": {
  "rows": 256,
  "cols": 256,
  "dpi": 96,
  "format": "PNG",
  "compressionQuality": 0,
  "origin": {
   "x": -119096800,
   "y": 140731500
  },
  "spatialReference": {
   "wkt": "PROJCS[\"MN_RAMSEY_Lambert_Conformal_Conic\",GEOGCS[\"GCS_MN_RAMSEY\",DATUM[\"D_MN_RAMSEY\",SPHEROID[\"MN_County_Ramsey\",6378418.941,298.2572242549219]],PRIMEM[\"Greenwich\",0.0],UNIT[\"Degree\",0.0174532925199433]],PROJECTION[\"Lambert_Conformal_Conic\"],PARAMETER[\"false_easting\",499999.999998],PARAMETER[\"false_northing\",100000.0001308333],PARAMETER[\"central_meridian\",-93.38333333000126],PARAMETER[\"standard_parallel_1\",44.8833333299992],PARAMETER[\"standard_parallel_2\",45.1333333299992],PARAMETER[\"scale_factor\",1.0],PARAMETER[\"latitude_of_origin\",44.79111110999973],UNIT[\"Foot_US\",0.3048006096012192]]"
  },
  "lods": [
   {
    "level": 0,
    "resolution": 151.9097222222222,
    "scale": 175000
   },
   {
    "level": 1,
    "resolution": 108.50694444444444,
    "scale": 125000
   },
   {
    "level": 2,
    "resolution": 55.55555555555555,
    "scale": 64000
   },
   {
    "level": 3,
    "resolution": 27.777777777777775,
    "scale": 32000
   },
   {
    "level": 4,
    "resolution": 13.888888888888888,
    "scale": 16000
   },
   {
    "level": 5,
    "resolution": 6.944444444444444,
    "scale": 8000
   },
   {
    "level": 6,
    "resolution": 3.125,
    "scale": 3600
   },
   {
    "level": 7,
    "resolution": 2.083333333333333,
    "scale": 2400
   },
   {
    "level": 8,
    "resolution": 1.0416666666666665,
    "scale": 1200
   },
   {
    "level": 9,
    "resolution": 0.5208333333333333,
    "scale": 600
   }
  ]
 },
 "cacheType": "Map",
 "allowRasterFunction": true,
 "rasterFunctionInfos": [
  {
   "name": "None",
   "description": "",
   "help": ""
  }
 ],
 "rasterTypeInfos": [
  {
   "name": "Raster Dataset",
   "description": "Supports all ArcGIS Raster Datasets",
   "help": ""
  }
 ],
 "mensurationCapabilities": "Basic",
 "hasHistograms": true,
 "hasColormap": false,
 "hasRasterAttributeTable": false,
 "minScale": 175000,
 "maxScale": 600,
 "minLOD": 0,
 "maxLOD": 8,
 "exportTilesAllowed": false,
 "hasMultidimensions": false,
 "supportsStatistics": false,
 "supportsAdvancedQueries": false,
 "editFieldsInfo": null,
 "ownershipBasedAccessControlForRasters": null,
 "allowComputeTiePoints": false,
 "useStandardizedQueries": true,
 "advancedQueryCapabilities": {
  "useStandardizedQueries": true,
  "supportsStatistics": false,
  "supportsOrderBy": false,
  "supportsDistinct": false,
  "supportsPagination": false
 },
 "spatialReference": {
  "wkt": "PROJCS[\"MN_RAMSEY_Lambert_Conformal_Conic\",GEOGCS[\"GCS_MN_RAMSEY\",DATUM[\"D_MN_RAMSEY\",SPHEROID[\"MN_County_Ramsey\",6378418.941,298.2572242549219]],PRIMEM[\"Greenwich\",0.0],UNIT[\"Degree\",0.0174532925199433]],PROJECTION[\"Lambert_Conformal_Conic\"],PARAMETER[\"false_easting\",499999.999998],PARAMETER[\"false_northing\",100000.0001308333],PARAMETER[\"central_meridian\",-93.38333333000126],PARAMETER[\"standard_parallel_1\",44.8833333299992],PARAMETER[\"standard_parallel_2\",45.1333333299992],PARAMETER[\"scale_factor\",1.0],PARAMETER[\"latitude_of_origin\",44.79111110999973],UNIT[\"Foot_US\",0.3048006096012192]]"
 }
}
