View In:
ArcGIS JavaScript
ArcGIS Online Map Viewer
ArcGIS Earth
ArcMap
View Footprint In:
ArcGIS Online Map Viewer
Service Description: used to compare image service connected to file vs. map service connected to db
Name: OrthoPhotos/Aerial2017_MrSID_Mosaic
Description: used to compare image service connected to file vs. map service connected to db
Single Fused Map Cache: false
Extent:
XMin: 538698.9299999999
YMin: 131848.86
XMax: 608701.1699999999
YMax: 226850.91
Spatial Reference: 103768
(103768)
Initial Extent:
XMin: 538698.9299999999
YMin: 131848.86
XMax: 608701.1699999999
YMax: 226850.91
Spatial Reference: 103768
(103768)
Full Extent:
XMin: 538698.9299999999
YMin: 131848.86
XMax: 608701.1699999999
YMax: 226850.91
Spatial Reference: 103768
(103768)
Pixel Size X: 0.32999999999999996
Pixel Size Y: 0.33000000000000007
Band Count: 4
Pixel Type: U8
RasterFunction Infos: {"rasterFunctionInfos": [{
"name": "None",
"description": "",
"help": ""
}]}
Mensuration Capabilities: Basic
Has Histograms: true
Has Colormap: false
Has Multi Dimensions : false
Rendering Rule:
Min Scale: 0
Max Scale: 0
Copyright Text:
Service Data Type: esriImageServiceDataTypeGeneric
Min Values: 0, 0, 0, 0
Max Values: 255, 255, 255, 255
Mean Values: 115.58396533044, 115.69041170098, 109.03602383532, 234.45151679307
Standard Deviation Values: 67.143131849731, 66.090934967507, 66.983743052905, 68.623172826157
Object ID Field:
Fields:
None
Default Mosaic Method: Center
Allowed Mosaic Methods:
SortField:
SortValue: null
Mosaic Operator: First
Default Compression Quality: 75
Default Resampling Method: Bilinear
Max Record Count: null
Max Image Height: 4100
Max Image Width: 15000
Max Download Image Count: null
Max Mosaic Image Count: null
Allow Raster Function: true
Allow Compute TiePoints: false
Supports Statistics: false
Supports Advanced Queries: false
Use StandardizedQueries: true
Raster Type Infos:
Name: Raster Dataset
Description: Supports all ArcGIS Raster Datasets
Help:
Has Raster Attribute Table: false
Edit Fields Info: null
Ownership Based AccessControl For Rasters: null
Child Resources:
Info
Histograms
Key Properties
Legend
MultiDimensionalInfo
rasterFunctionInfos
Supported Operations:
Export Image
Identify
Measure
Compute Histograms
Compute Statistics Histograms
Get Samples
Compute Class Statistics
Query Boundary
Compute Pixel Location