View In:
ArcGIS JavaScript
ArcGIS Online Map Viewer
ArcGIS Earth
ArcMap
View Footprint In:
ArcGIS Online Map Viewer
Service Description: Service produced from single MrSID image.
Name: OrthoPhotos/Aerial2022_WebMercator
Description: Service produced from single MrSID image.
Single Fused Map Cache: false
Extent:
XMin: -1.037872283289003E7
YMin: 5602287.826207783
XMax: -1.0348494918234207E7
YMax: 5643419.22067057
Spatial Reference: 102100
(3857)
Initial Extent:
XMin: -1.037872283289003E7
YMin: 5602287.826207783
XMax: -1.0348494918234207E7
YMax: 5643419.22067057
Spatial Reference: 102100
(3857)
Full Extent:
XMin: -1.037872283289003E7
YMin: 5602287.826207783
XMax: -1.0348494918234207E7
YMax: 5643419.22067057
Spatial Reference: 102100
(3857)
Pixel Size X: 0.07620015240028954
Pixel Size Y: 0.07620015240030052
Band Count: 3
Pixel Type: U8
RasterFunction Infos: {"rasterFunctionInfos": [{
"name": "None",
"description": "",
"help": ""
}]}
Mensuration Capabilities: Basic
Has Histograms: true
Has Colormap: false
Has Multi Dimensions : false
Rendering Rule:
Min Scale: 0
Max Scale: 0
Copyright Text:
Service Data Type: esriImageServiceDataTypeProcessed
Min Values: 0, 0, 10
Max Values: 255, 255, 255
Mean Values: 136.53525046382234, 127.85745207173788, 107.29004329004353
Standard Deviation Values: 42.968011290530704, 41.51569166872391, 45.74230046423817
Object ID Field:
Fields:
None
Default Mosaic Method: Center
Allowed Mosaic Methods:
SortField:
SortValue: null
Mosaic Operator: First
Default Compression Quality: 75
Default Resampling Method: Bilinear
Max Record Count: null
Max Image Height: 4100
Max Image Width: 15000
Max Download Image Count: null
Max Mosaic Image Count: null
Allow Raster Function: true
Allow Compute TiePoints: false
Supports Statistics: false
Supports Advanced Queries: false
Use StandardizedQueries: true
Raster Type Infos:
Name: Raster Dataset
Description: Supports all ArcGIS Raster Datasets
Help:
Has Raster Attribute Table: false
Edit Fields Info: null
Ownership Based AccessControl For Rasters: null
Child Resources:
Info
Histograms
Key Properties
Legend
MultiDimensionalInfo
rasterFunctionInfos
Supported Operations:
Export Image
Identify
Measure
Compute Histograms
Compute Statistics Histograms
Get Samples
Compute Class Statistics
Query Boundary
Compute Pixel Location