View In:
ArcGIS JavaScript
ArcGIS Online Map Viewer
ArcGIS Earth
ArcMap
View Footprint In:
ArcGIS Online Map Viewer
Service Description: Aerial Imagery collected in Spring 2024. Service produced from single MrSID image.
Name: OrthoPhotos/Aerial2024_WebMercator
Description: Aerial Imagery collected in Spring 2024. Service produced from single MrSID image.
Single Fused Map Cache: false
Extent:
XMin: -1.0378722909090078E7
YMin: 5602287.75022306
XMax: -1.0348494842192741E7
YMax: 5643419.296870076
Spatial Reference: 102100
(3857)
Initial Extent:
XMin: -1.0378722909090078E7
YMin: 5602287.75022306
XMax: -1.0348494842192741E7
YMax: 5643419.296870076
Spatial Reference: 102100
(3857)
Full Extent:
XMin: -1.0378722909090078E7
YMin: 5602287.75022306
XMax: -1.0348494842192741E7
YMax: 5643419.296870076
Spatial Reference: 102100
(3857)
Pixel Size X: 0.07620015200000099
Pixel Size Y: 0.07620015199999992
Band Count: 3
Pixel Type: U8
RasterFunction Infos: {"rasterFunctionInfos": [{
"name": "None",
"description": "",
"help": ""
}]}
Mensuration Capabilities: Basic
Has Histograms: true
Has Colormap: false
Has Multi Dimensions : false
Rendering Rule:
Min Scale: 0
Max Scale: 0
Copyright Text:
Service Data Type: esriImageServiceDataTypeProcessed
Min Values: 0, 0, 0
Max Values: 255, 255, 255
Mean Values: 138.6270871985156, 134.35714285714212, 118.16604823747672
Standard Deviation Values: 46.386421983734955, 43.47314335253335, 44.98971170817347
Object ID Field:
Fields:
None
Default Mosaic Method: Center
Allowed Mosaic Methods:
SortField:
SortValue: null
Mosaic Operator: First
Default Compression Quality: 75
Default Resampling Method: Bilinear
Max Record Count: null
Max Image Height: 4100
Max Image Width: 15000
Max Download Image Count: null
Max Mosaic Image Count: null
Allow Raster Function: true
Allow Compute TiePoints: false
Supports Statistics: false
Supports Advanced Queries: false
Use StandardizedQueries: true
Raster Type Infos:
Name: Raster Dataset
Description: Supports all ArcGIS Raster Datasets
Help:
Has Raster Attribute Table: false
Edit Fields Info: null
Ownership Based AccessControl For Rasters: null
Child Resources:
Info
Histograms
Key Properties
Legend
MultiDimensionalInfo
rasterFunctionInfos
Supported Operations:
Export Image
Identify
Measure
Compute Histograms
Compute Statistics Histograms
Get Samples
Compute Class Statistics
Query Boundary
Compute Pixel Location