View In:
ArcGIS JavaScript
ArcGIS Online Map Viewer
ArcGIS Earth
ArcMap
View Footprint In:
ArcGIS Online Map Viewer
Service Description: OrthoPhotos/Aerial2018
Name: OrthoPhotos/Aerial2018
Description:
Single Fused Map Cache: false
Extent:
XMin: 539825.75
YMin: 132372.75
XMax: 603717
YMax: 222323.5
Spatial Reference: 103768
(103768)
Initial Extent:
XMin: 539825.75
YMin: 132372.75
XMax: 603717
YMax: 222323.5
Spatial Reference: 103768
(103768)
Full Extent:
XMin: 539825.75
YMin: 132372.75
XMax: 603717
YMax: 222323.5
Spatial Reference: 103768
(103768)
Pixel Size X: 0.25
Pixel Size Y: 0.25
Band Count: 3
Pixel Type: U8
RasterFunction Infos: {"rasterFunctionInfos": [{
"name": "None",
"description": "",
"help": ""
}]}
Mensuration Capabilities: Basic
Has Histograms: true
Has Colormap: false
Has Multi Dimensions : false
Rendering Rule:
Min Scale: 0
Max Scale: 0
Copyright Text:
Service Data Type: esriImageServiceDataTypeRGB
Min Values: 0, 17, 0
Max Values: 255, 255, 255
Mean Values: 143.20634920634976, 130.9832251082251, 108.72564935064923
Standard Deviation Values: 44.65326561363392, 46.89841082530641, 53.63995616764025
Object ID Field:
Fields:
None
Default Mosaic Method: Center
Allowed Mosaic Methods:
SortField:
SortValue: null
Mosaic Operator: First
Default Compression Quality: 75
Default Resampling Method: Bilinear
Max Record Count: null
Max Image Height: 4100
Max Image Width: 15000
Max Download Image Count: null
Max Mosaic Image Count: null
Allow Raster Function: true
Allow Compute TiePoints: false
Supports Statistics: false
Supports Advanced Queries: false
Use StandardizedQueries: true
Raster Type Infos:
Name: Raster Dataset
Description: Supports all ArcGIS Raster Datasets
Help:
Has Raster Attribute Table: false
Edit Fields Info: null
Ownership Based AccessControl For Rasters: null
Child Resources:
Info
Histograms
Key Properties
Legend
MultiDimensionalInfo
rasterFunctionInfos
Supported Operations:
Export Image
Identify
Measure
Compute Histograms
Compute Statistics Histograms
Get Samples
Compute Class Statistics
Query Boundary
Compute Pixel Location