View In:
ArcGIS JavaScript
ArcGIS Online Map Viewer
ArcGIS Earth
ArcMap
View Footprint In:
ArcGIS Online Map Viewer
Service Description: Aerial Imagery collected in Spring 2022. Service produced from single MrSID image.
Name: OrthoPhotos/Aerial2022
Description: Aerial Imagery collected in Spring 2022. Service produced from single MrSID image.
Single Fused Map Cache: false
Extent:
XMin: 538701.5162
YMin: 131851.12
XMax: 608705.0162
YMax: 226855.87
Spatial Reference: 103768
(103768)
Initial Extent:
XMin: 538701.5162
YMin: 131851.12
XMax: 608705.0162
YMax: 226855.87
Spatial Reference: 103768
(103768)
Full Extent:
XMin: 538701.5162
YMin: 131851.12
XMax: 608705.0162
YMax: 226855.87
Spatial Reference: 103768
(103768)
Pixel Size X: 0.25
Pixel Size Y: 0.25
Band Count: 3
Pixel Type: U8
RasterFunction Infos: {"rasterFunctionInfos": [{
"name": "None",
"description": "",
"help": ""
}]}
Mensuration Capabilities: Basic
Has Histograms: true
Has Colormap: false
Has Multi Dimensions : false
Rendering Rule:
Min Scale: 0
Max Scale: 0
Copyright Text:
Service Data Type: esriImageServiceDataTypeProcessed
Min Values: 0, 0, 9
Max Values: 255, 255, 255
Mean Values: 135.75736325386, 126.99984416394, 106.29842605579
Standard Deviation Values: 43.117525001131, 41.258394341112, 44.967447083367
Object ID Field:
Fields:
None
Default Mosaic Method: Center
Allowed Mosaic Methods:
SortField:
SortValue: null
Mosaic Operator: First
Default Compression Quality: 75
Default Resampling Method: Bilinear
Max Record Count: null
Max Image Height: 4100
Max Image Width: 15000
Max Download Image Count: null
Max Mosaic Image Count: null
Allow Raster Function: true
Allow Compute TiePoints: false
Supports Statistics: false
Supports Advanced Queries: false
Use StandardizedQueries: true
Raster Type Infos:
Name: Raster Dataset
Description: Supports all ArcGIS Raster Datasets
Help:
Has Raster Attribute Table: false
Edit Fields Info: null
Ownership Based AccessControl For Rasters: null
Child Resources:
Info
Histograms
Key Properties
Legend
MultiDimensionalInfo
rasterFunctionInfos
Supported Operations:
Export Image
Identify
Measure
Compute Histograms
Compute Statistics Histograms
Get Samples
Compute Class Statistics
Query Boundary
Compute Pixel Location