View In:
ArcGIS JavaScript
ArcGIS Online Map Viewer
ArcGIS Earth
ArcMap
View Footprint In:
ArcGIS Online Map Viewer
Service Description: Aerial Imagery collected in Spring 2024. Service produced from single MrSID image.
Name: OrthoPhotos/Aerial2024
Description: Aerial Imagery collected in Spring 2024. Service produced from single MrSID image.
Single Fused Map Cache: true
Tile Info:
- Height: 256
- Width: 256
- DPI: 96
-
Levels of Detail: 10
- Format: PNG
- Compression Quality: 0.0
- LERC Error: NaN
- Origin: X: -1.190968E8
Y: 1.407315E8
- Spatial Reference: PROJCS["MN_RAMSEY_Lambert_Conformal_Conic",GEOGCS["GCS_MN_RAMSEY",DATUM["D_MN_RAMSEY",SPHEROID["MN_County_Ramsey",6378418.941,298.2572242549219]],PRIMEM["Greenwich",0.0],UNIT["Degree",0.0174532925199433]],PROJECTION["Lambert_Conformal_Conic"],PARAMETER["false_easting",499999.999998],PARAMETER["false_northing",100000.0001308333],PARAMETER["central_meridian",-93.38333333000126],PARAMETER["standard_parallel_1",44.8833333299992],PARAMETER["standard_parallel_2",45.1333333299992],PARAMETER["scale_factor",1.0],PARAMETER["latitude_of_origin",44.79111110999973],UNIT["Foot_US",0.3048006096012192]]
Extent:
XMin: 538701.2662
YMin: 131850.87
XMax: 608705.2662
YMax: 226856.12
Spatial Reference: PROJCS["MN_RAMSEY_Lambert_Conformal_Conic",GEOGCS["GCS_MN_RAMSEY",DATUM["D_MN_RAMSEY",SPHEROID["MN_County_Ramsey",6378418.941,298.2572242549219]],PRIMEM["Greenwich",0.0],UNIT["Degree",0.0174532925199433]],PROJECTION["Lambert_Conformal_Conic"],PARAMETER["false_easting",499999.999998],PARAMETER["false_northing",100000.0001308333],PARAMETER["central_meridian",-93.38333333000126],PARAMETER["standard_parallel_1",44.8833333299992],PARAMETER["standard_parallel_2",45.1333333299992],PARAMETER["scale_factor",1.0],PARAMETER["latitude_of_origin",44.79111110999973],UNIT["Foot_US",0.3048006096012192]]
Initial Extent:
XMin: 538701.2662
YMin: 131850.87
XMax: 608705.2662
YMax: 226856.12
Spatial Reference: PROJCS["MN_RAMSEY_Lambert_Conformal_Conic",GEOGCS["GCS_MN_RAMSEY",DATUM["D_MN_RAMSEY",SPHEROID["MN_County_Ramsey",6378418.941,298.2572242549219]],PRIMEM["Greenwich",0.0],UNIT["Degree",0.0174532925199433]],PROJECTION["Lambert_Conformal_Conic"],PARAMETER["false_easting",499999.999998],PARAMETER["false_northing",100000.0001308333],PARAMETER["central_meridian",-93.38333333000126],PARAMETER["standard_parallel_1",44.8833333299992],PARAMETER["standard_parallel_2",45.1333333299992],PARAMETER["scale_factor",1.0],PARAMETER["latitude_of_origin",44.79111110999973],UNIT["Foot_US",0.3048006096012192]]
Full Extent:
XMin: 538701.2662
YMin: 131850.87
XMax: 608705.2662
YMax: 226856.12
Spatial Reference: PROJCS["MN_RAMSEY_Lambert_Conformal_Conic",GEOGCS["GCS_MN_RAMSEY",DATUM["D_MN_RAMSEY",SPHEROID["MN_County_Ramsey",6378418.941,298.2572242549219]],PRIMEM["Greenwich",0.0],UNIT["Degree",0.0174532925199433]],PROJECTION["Lambert_Conformal_Conic"],PARAMETER["false_easting",499999.999998],PARAMETER["false_northing",100000.0001308333],PARAMETER["central_meridian",-93.38333333000126],PARAMETER["standard_parallel_1",44.8833333299992],PARAMETER["standard_parallel_2",45.1333333299992],PARAMETER["scale_factor",1.0],PARAMETER["latitude_of_origin",44.79111110999973],UNIT["Foot_US",0.3048006096012192]]
Pixel Size X: 0.25
Pixel Size Y: 0.25
Band Count: 3
Pixel Type: U8
RasterFunction Infos: {"rasterFunctionInfos": [{
"name": "None",
"description": "",
"help": ""
}]}
Mensuration Capabilities: Basic
Has Histograms: true
Has Colormap: false
Has Multi Dimensions : false
Rendering Rule:
Min Scale: 175000
Max Scale: 600
Min LOD: 0
Max LOD: 8
Copyright Text:
Service Data Type: esriImageServiceDataTypeProcessed
Min Values: 0, 0, 0
Max Values: 255, 255, 255
Mean Values: 137.81658095683, 133.5435561789, 117.23983169705
Standard Deviation Values: 46.461794190825, 43.238105304906, 44.337974601278
Object ID Field:
Fields:
None
Default Mosaic Method: Center
Allowed Mosaic Methods:
SortField:
SortValue: null
Mosaic Operator: First
Default Compression Quality: 75
Default Resampling Method: Bilinear
Max Record Count: null
Max Image Height: 4100
Max Image Width: 15000
Max Download Image Count: null
Max Mosaic Image Count: null
Allow Raster Function: true
Allow Compute TiePoints: false
Supports Statistics: false
Supports Advanced Queries: false
Use StandardizedQueries: true
Raster Type Infos:
Name: Raster Dataset
Description: Supports all ArcGIS Raster Datasets
Help:
Has Raster Attribute Table: false
Edit Fields Info: null
Ownership Based AccessControl For Rasters: null
Child Resources:
Info
Histograms
Key Properties
Legend
MultiDimensionalInfo
rasterFunctionInfos
Supported Operations:
Export Image
Identify
Measure
Compute Histograms
Compute Statistics Histograms
Get Samples
Compute Class Statistics
Query Boundary
Compute Pixel Location